BEGIN:VCALENDAR
VERSION:2.0
PRODID:-//West Piedmont Planning District Commission - ECPv6.15.17.1//NONSGML v1.0//EN
CALSCALE:GREGORIAN
METHOD:PUBLISH
X-WR-CALNAME:West Piedmont Planning District Commission
X-ORIGINAL-URL:https://westpiedmontpdc.org
X-WR-CALDESC:Events for West Piedmont Planning District Commission
REFRESH-INTERVAL;VALUE=DURATION:PT1H
X-Robots-Tag:noindex
X-PUBLISHED-TTL:PT1H
BEGIN:VTIMEZONE
TZID:UTC
BEGIN:STANDARD
TZOFFSETFROM:+0000
TZOFFSETTO:+0000
TZNAME:UTC
DTSTART:20240101T000000
END:STANDARD
END:VTIMEZONE
BEGIN:VEVENT
DTSTART;TZID=UTC:20251023T190000
DTEND;TZID=UTC:20251023T203000
DTSTAMP:20260424T003107
CREATED:20250827T180734Z
LAST-MODIFIED:20250827T180734Z
UID:13014-1761246000-1761251400@westpiedmontpdc.org
SUMMARY:WPPDC Board Meeting
DESCRIPTION:WPPDC Office 1100 Madison St\, Martinsville\, VA
URL:https://westpiedmontpdc.org/event/wppdc-board-meeting-24/
END:VEVENT
END:VCALENDAR