BEGIN:VCALENDAR
VERSION:2.0
PRODID:-//West Piedmont Planning District Commission - ECPv6.15.17.1//NONSGML v1.0//EN
CALSCALE:GREGORIAN
METHOD:PUBLISH
X-WR-CALNAME:West Piedmont Planning District Commission
X-ORIGINAL-URL:https://westpiedmontpdc.org
X-WR-CALDESC:Events for West Piedmont Planning District Commission
REFRESH-INTERVAL;VALUE=DURATION:PT1H
X-Robots-Tag:noindex
X-PUBLISHED-TTL:PT1H
BEGIN:VTIMEZONE
TZID:UTC
BEGIN:STANDARD
TZOFFSETFROM:+0000
TZOFFSETTO:+0000
TZNAME:UTC
DTSTART:20200101T000000
END:STANDARD
END:VTIMEZONE
BEGIN:VEVENT
DTSTART;TZID=UTC:20211215T130000
DTEND;TZID=UTC:20211215T140000
DTSTAMP:20260424T122304
CREATED:20211201T185724Z
LAST-MODIFIED:20220111T153822Z
UID:11702-1639573200-1639576800@westpiedmontpdc.org
SUMMARY:Housing Production Program How To Apply
DESCRIPTION:The How To Apply workshop for the WPPDC Housing Production Program will be held virtually on Zoom. \n\n\n\n \n\n\n\nClick here to access the meeting.
URL:https://westpiedmontpdc.org/event/housing-production-program-how-to-apply/
CATEGORIES:Planning
END:VEVENT
BEGIN:VEVENT
DTSTART;TZID=UTC:20211214T140000
DTEND;TZID=UTC:20211214T153000
DTSTAMP:20260424T122304
CREATED:20211201T190220Z
LAST-MODIFIED:20220111T153827Z
UID:11708-1639490400-1639495800@westpiedmontpdc.org
SUMMARY:CEDS Strategy Committee Meeting
DESCRIPTION:The CEDS Strategy Committee will meet with WPPDC Staff and Thomas P. Miller & Associates to discuss the CEDS 5-Year Update.  \n\n\n\n \n\n\n\nClick here to access the meeting.
URL:https://westpiedmontpdc.org/event/ceds-strategy-committee-meeting/
CATEGORIES:CEDS
END:VEVENT
BEGIN:VEVENT
DTSTART;TZID=UTC:20211209T190000
DTEND;TZID=UTC:20211209T200000
DTSTAMP:20260424T122304
CREATED:20211029T124425Z
LAST-MODIFIED:20220111T153833Z
UID:11617-1639076400-1639080000@westpiedmontpdc.org
SUMMARY:WPPDC Board Meeting - Cancelled
DESCRIPTION:The WPPDC Board of Commissioners will meet at 7:00pm on October 28\, 2021. The meeting will be held at the Commission Office\, 1100 Madison St\, Martinsville\, VA 24112 and via Zoom.
URL:https://westpiedmontpdc.org/event/wppdc-board-meeting-4/
CATEGORIES:Board
END:VEVENT
BEGIN:VEVENT
DTSTART;TZID=UTC:20211118T110000
DTEND;TZID=UTC:20211118T120000
DTSTAMP:20260424T122304
CREATED:20211020T121149Z
LAST-MODIFIED:20220111T153839Z
UID:11602-1637233200-1637236800@westpiedmontpdc.org
SUMMARY:WPPDC T-TAC Meeting
DESCRIPTION:The WPPDC T-TAC Committee will meet at 11:00am on November 18\, 2021. The meeting will be held via Zoom – https://us06web.zoom.us/j/87173294468?pwd=U1FOSzQvaVkwa1ZtY0g3eThMN2Rxdz09
URL:https://westpiedmontpdc.org/event/wppdc-t-tac-meeting/
CATEGORIES:TTAC
END:VEVENT
BEGIN:VEVENT
DTSTART;TZID=UTC:20211028T190000
DTEND;TZID=UTC:20211028T200000
DTSTAMP:20260424T122304
CREATED:20210627T125446Z
LAST-MODIFIED:20211020T120311Z
UID:11288-1635447600-1635451200@westpiedmontpdc.org
SUMMARY:WPPDC Board Meeting
DESCRIPTION:The WPPDC Board of Commissioners will meet at 7:00pm on October 28\, 2021. The meeting will be held at the Commission Office\, 1100 Madison St\, Martinsville\, VA 24112 and via Zoom – https://us06web.zoom.us/j/83023005547?pwd=L3VvS01NVWhkbkF0bmlWME8xZGdFdz09
URL:https://westpiedmontpdc.org/event/wppdc-board-meeting-3/
LOCATION:WPPDC Office\, 1100 Madison St\, Martinsville\, 24112\, United States
CATEGORIES:Board
END:VEVENT
BEGIN:VEVENT
DTSTART;TZID=UTC:20210826T190000
DTEND;TZID=UTC:20210826T200000
DTSTAMP:20260424T122304
CREATED:20210627T125328Z
LAST-MODIFIED:20210722T115802Z
UID:11284-1630004400-1630008000@westpiedmontpdc.org
SUMMARY:WPPDC Board Meeting
DESCRIPTION:
URL:https://westpiedmontpdc.org/event/wppdc-board-meeting-2/
LOCATION:WPPDC Office\, 1100 Madison St\, Martinsville\, 24112\, United States
CATEGORIES:Board
END:VEVENT
BEGIN:VEVENT
DTSTART;TZID=UTC:20210805T180000
DTEND;TZID=UTC:20210805T190000
DTSTAMP:20260424T122305
CREATED:20210722T121003Z
LAST-MODIFIED:20210722T121020Z
UID:11424-1628186400-1628190000@westpiedmontpdc.org
SUMMARY:WPPDC Hazard Mitigation Public Input Meeting
DESCRIPTION:The West Piedmont Multi-Jurisdictional Hazard Mitigation Plan is undergoing a 2021 update. A public meeting will be held on Thursday\, August 5\, 2021 from 6:00 – 7:00 p.m. via a virtual Microsoft Teams meeting (https://bit.ly/2UD4XoJ). A brief overview of the planning process will be given\, along with a walkthrough of the updated plan. There will be time allotted for the public to ask questions and provide feedback. The draft plan will be posted on the Planning District Commission’s Hazard Mitigation Planning webpage at https://westpiedmontpdc.org/hazard-mitigation-planning/ prior to the meeting. Contact the West Piedmont Planning District Commission at (276) 638-3987 or by email at plan@wppdc.org with any questions or if you require reasonable accommodations.
URL:https://westpiedmontpdc.org/event/wppdc-hazard-mitigation-public-input-meeting/
CATEGORIES:Planning
END:VEVENT
BEGIN:VEVENT
DTSTART;TZID=UTC:20210805T100000
DTEND;TZID=UTC:20210805T120000
DTSTAMP:20260424T122305
CREATED:20210722T120104Z
LAST-MODIFIED:20210722T120127Z
UID:11422-1628157600-1628164800@westpiedmontpdc.org
SUMMARY:WPPDC Hazard Mitigation MAC Meeting
DESCRIPTION:________________________________________________________________________________ \n\n\n\nMicrosoft Teams meeting \n\n\n\nJoin on your computer or mobile app \n\n\n\nClick here to join the meeting \n\n\n\nOr call in (audio only) \n\n\n\n+1 571-360-4685\,\,966152715#   United States\, Arlington  \n\n\n\nPhone Conference ID: 966 152 715#  \n\n\n\nFind a local number | Reset PIN \n\n\n\nLearn More | Meeting options \n\n\n\n________________________________________________________________________________
URL:https://westpiedmontpdc.org/event/wppdc-hazard-mitigation-mac-meeting/
CATEGORIES:Planning
END:VEVENT
BEGIN:VEVENT
DTSTART;TZID=UTC:20210804T183000
DTEND;TZID=UTC:20210804T193000
DTSTAMP:20260424T122305
CREATED:20210722T121325Z
LAST-MODIFIED:20210722T121343Z
UID:11426-1628101800-1628105400@westpiedmontpdc.org
SUMMARY:Danville MPO Board Meeting
DESCRIPTION:
URL:https://westpiedmontpdc.org/event/danville-mpo-board-meeting/
LOCATION:Danville Regional Airport\, 424 Airport Dr\, Danville\, 24540\, United States
CATEGORIES:Danville MPO
END:VEVENT
BEGIN:VEVENT
DTSTART;TZID=UTC:20210527T193000
DTEND;TZID=UTC:20210527T200000
DTSTAMP:20260424T122305
CREATED:20210426T141214Z
LAST-MODIFIED:20210722T115810Z
UID:10529-1622143800-1622145600@westpiedmontpdc.org
SUMMARY:WPPDC Board Meeting
DESCRIPTION:The WPPDC Board of Commissioners will meet at 7:00pm on May 27\, 2021. The meeting will be held at the Commission Office\, 1100 Madison St\, Martinsville\, VA 24112 and via Zoom.
URL:https://westpiedmontpdc.org/event/wppdc-board-meeting/
LOCATION:Commission Office\, 1100 Madison St\, Martinsville\, 24112\, United States
CATEGORIES:Board
END:VEVENT
END:VCALENDAR