BEGIN:VCALENDAR
VERSION:2.0
PRODID:-//West Piedmont Planning District Commission - ECPv6.15.17.1//NONSGML v1.0//EN
CALSCALE:GREGORIAN
METHOD:PUBLISH
X-WR-CALNAME:West Piedmont Planning District Commission
X-ORIGINAL-URL:https://westpiedmontpdc.org
X-WR-CALDESC:Events for West Piedmont Planning District Commission
REFRESH-INTERVAL;VALUE=DURATION:PT1H
X-Robots-Tag:noindex
X-PUBLISHED-TTL:PT1H
BEGIN:VTIMEZONE
TZID:UTC
BEGIN:STANDARD
TZOFFSETFROM:+0000
TZOFFSETTO:+0000
TZNAME:UTC
DTSTART:20200101T000000
END:STANDARD
END:VTIMEZONE
BEGIN:VEVENT
DTSTART;TZID=UTC:20221123T083000
DTEND;TZID=UTC:20221125T170000
DTSTAMP:20260424T155358
CREATED:20220603T161212Z
LAST-MODIFIED:20221118T125701Z
UID:12024-1669192200-1669395600@westpiedmontpdc.org
SUMMARY:WPPDC Office Closed
DESCRIPTION:The WPPDC office will be closed in observation of Thanksgiving.
URL:https://westpiedmontpdc.org/event/wppdc-office-closed-10/
CATEGORIES:Holiday
END:VEVENT
BEGIN:VEVENT
DTSTART;TZID=UTC:20221111T080000
DTEND;TZID=UTC:20221111T170000
DTSTAMP:20260424T155358
CREATED:20220603T161049Z
LAST-MODIFIED:20220603T161056Z
UID:12022-1668153600-1668186000@westpiedmontpdc.org
SUMMARY:WPPDC Office Closed
DESCRIPTION:The WPPDC office will be closed in observation of Veterans Day.
URL:https://westpiedmontpdc.org/event/wppdc-office-closed-9/
CATEGORIES:Holiday
END:VEVENT
BEGIN:VEVENT
DTSTART;TZID=UTC:20221108T080000
DTEND;TZID=UTC:20221108T170000
DTSTAMP:20260424T155358
CREATED:20220603T160133Z
LAST-MODIFIED:20220603T160146Z
UID:12016-1667894400-1667926800@westpiedmontpdc.org
SUMMARY:WPPDC Office Closed
DESCRIPTION:The WPPDC office will be closed in observation of Election Day.
URL:https://westpiedmontpdc.org/event/wppdc-office-closed-8/
CATEGORIES:Holiday
END:VEVENT
BEGIN:VEVENT
DTSTART;TZID=UTC:20221027T190000
DTEND;TZID=UTC:20221027T200000
DTSTAMP:20260424T155358
CREATED:20220603T155349Z
LAST-MODIFIED:20220603T155357Z
UID:12010-1666897200-1666900800@westpiedmontpdc.org
SUMMARY:WPPDC Board Meeting
DESCRIPTION:The WPPDC Board of Commissioners will meet at 7:00pm on October 27\, 2022. The meeting will be held at the Commission Office\, 1100 Madison St\, Martinsville\, VA 24112 and via Zoom.
URL:https://westpiedmontpdc.org/event/wppdc-board-meeting-9/
LOCATION:WPPDC Office\, 1100 Madison St\, Martinsville\, 24112\, United States
CATEGORIES:Board
END:VEVENT
BEGIN:VEVENT
DTSTART;TZID=UTC:20221010T080000
DTEND;TZID=UTC:20221010T170000
DTSTAMP:20260424T155358
CREATED:20220603T160000Z
LAST-MODIFIED:20220603T160016Z
UID:12014-1665388800-1665421200@westpiedmontpdc.org
SUMMARY:WPPDC Office Closed
DESCRIPTION:The WPPDC office will be closed in observation of Columbus Day & Yorktown Victory Day.
URL:https://westpiedmontpdc.org/event/wppdc-office-closed-7/
CATEGORIES:Holiday
END:VEVENT
BEGIN:VEVENT
DTSTART;TZID=UTC:20220905T080000
DTEND;TZID=UTC:20220905T170000
DTSTAMP:20260424T155358
CREATED:20220603T155839Z
LAST-MODIFIED:20220603T160226Z
UID:12012-1662364800-1662397200@westpiedmontpdc.org
SUMMARY:WPPDC Office Closed
DESCRIPTION:The WPPDC office will be closed in observation of Labor Day.
URL:https://westpiedmontpdc.org/event/wppdc-office-closed-6/
CATEGORIES:Holiday
END:VEVENT
BEGIN:VEVENT
DTSTART;TZID=UTC:20220825T190000
DTEND;TZID=UTC:20220825T200000
DTSTAMP:20260424T155358
CREATED:20220603T155209Z
LAST-MODIFIED:20220603T155223Z
UID:12007-1661454000-1661457600@westpiedmontpdc.org
SUMMARY:WPPDC Board Meeting
DESCRIPTION:The WPPDC Board of Commissioners will meet at 7:00pm on August 25\, 2022. The meeting will be held at the Commission Office\, 1100 Madison St\, Martinsville\, VA 24112 and via Zoom.
URL:https://westpiedmontpdc.org/event/wppdc-board-meeting-8/
LOCATION:WPPDC Office\, 1100 Madison St\, Martinsville\, 24112\, United States
CATEGORIES:Board
END:VEVENT
BEGIN:VEVENT
DTSTART;TZID=UTC:20220704T080000
DTEND;TZID=UTC:20220704T170000
DTSTAMP:20260424T155358
CREATED:20220428T121407Z
LAST-MODIFIED:20220603T160205Z
UID:11969-1656921600-1656954000@westpiedmontpdc.org
SUMMARY:WPPDC Office Closed
DESCRIPTION:The WPPDC office will be closed in observation of Independence Day.
URL:https://westpiedmontpdc.org/event/wppdc-office-closed-5/
CATEGORIES:Holiday
END:VEVENT
BEGIN:VEVENT
DTSTART;TZID=UTC:20220620T080000
DTEND;TZID=UTC:20220620T170000
DTSTAMP:20260424T155358
CREATED:20220428T121237Z
LAST-MODIFIED:20220603T160245Z
UID:11967-1655712000-1655744400@westpiedmontpdc.org
SUMMARY:WPPDC Office Closed
DESCRIPTION:The WPPDC office will be closed in observation of Juneteenth.
URL:https://westpiedmontpdc.org/event/wppdc-office-closed-4/
CATEGORIES:Holiday
END:VEVENT
BEGIN:VEVENT
DTSTART;TZID=UTC:20220530T080000
DTEND;TZID=UTC:20220530T170000
DTSTAMP:20260424T155358
CREATED:20220428T121133Z
LAST-MODIFIED:20220603T160300Z
UID:11964-1653897600-1653930000@westpiedmontpdc.org
SUMMARY:WPPDC Office Closed
DESCRIPTION:The WPPDC office will be closed in observation of Memorial Day.
URL:https://westpiedmontpdc.org/event/wppdc-office-closed-3/
CATEGORIES:Holiday
END:VEVENT
BEGIN:VEVENT
DTSTART;TZID=UTC:20220526T190000
DTEND;TZID=UTC:20220526T200000
DTSTAMP:20260424T155358
CREATED:20220111T154851Z
LAST-MODIFIED:20220111T155246Z
UID:11771-1653591600-1653595200@westpiedmontpdc.org
SUMMARY:WPPDC Board Meeting
DESCRIPTION:The WPPDC Board of Commissioners will meet at 7:00pm on May 26\, 2022. The meeting will be held at the Commission Office\, 1100 Madison St\, Martinsville\, VA 24112 and via Zoom.
URL:https://westpiedmontpdc.org/event/wppdc-board-meeting-7/
LOCATION:WPPDC Office\, 1100 Madison St\, Martinsville\, 24112\, United States
CATEGORIES:Board
END:VEVENT
BEGIN:VEVENT
DTSTART;TZID=UTC:20220428T180000
DTEND;TZID=UTC:20220428T190000
DTSTAMP:20260424T155358
CREATED:20220111T154243Z
LAST-MODIFIED:20220111T154301Z
UID:11768-1651168800-1651172400@westpiedmontpdc.org
SUMMARY:WPPDC Executive Committee Meeting
DESCRIPTION:The WPPDC Executive Committee will meet at 6:00pm on April 28\, 2022. The meeting will be held at the Commission Office\, 1100 Madison St\, Martinsville\, VA 24112 and via Zoom.
URL:https://westpiedmontpdc.org/event/wppdc-executive-committee-meeting/
LOCATION:WPPDC Office\, 1100 Madison St\, Martinsville\, 24112\, United States
CATEGORIES:Board
END:VEVENT
BEGIN:VEVENT
DTSTART;TZID=UTC:20220324T190000
DTEND;TZID=UTC:20220324T200000
DTSTAMP:20260424T155358
CREATED:20220111T154049Z
LAST-MODIFIED:20220111T154315Z
UID:11766-1648148400-1648152000@westpiedmontpdc.org
SUMMARY:WPPDC Board Meeting
DESCRIPTION:The WPPDC Board of Commissioners will meet at 7:00pm on March 24\, 2022. The meeting will be held at the Commission Office\, 1100 Madison St\, Martinsville\, VA 24112 and via Zoom.
URL:https://westpiedmontpdc.org/event/wppdc-board-meeting-6/
LOCATION:WPPDC Office\, 1100 Madison St\, Martinsville\, 24112\, United States
CATEGORIES:Board
END:VEVENT
BEGIN:VEVENT
DTSTART;TZID=UTC:20220316T110000
DTEND;TZID=UTC:20220316T120000
DTSTAMP:20260424T155358
CREATED:20220213T184918Z
LAST-MODIFIED:20220217T141139Z
UID:11867-1647428400-1647432000@westpiedmontpdc.org
SUMMARY:WPPDC T-TAC Meeting￼
DESCRIPTION:The WPPDC T-TAC Committee will meet at 11:00am on March 16\, 2022. The meeting will be held via Zoom –  https://us06web.zoom.us/j/88635255966?pwd=MUlUMENjSTEyQ3h2RjN5bHJkN0lDZz09
URL:https://westpiedmontpdc.org/event/wppdc-t-tac-meeting%ef%bf%bc/
CATEGORIES:TTAC
END:VEVENT
BEGIN:VEVENT
DTSTART;TZID=UTC:20220303T140000
DTEND;TZID=UTC:20220303T153000
DTSTAMP:20260424T155358
CREATED:20220217T141034Z
LAST-MODIFIED:20220217T141105Z
UID:11888-1646316000-1646321400@westpiedmontpdc.org
SUMMARY:CEDS Public Input & Strategy Committee Meeting￼
DESCRIPTION:There will be a joint public input and CEDS Strategy Committee meeting to review the draft 2022 CEDS 5-Year Update. The meeting will be virtual via Zoom. \n\n\n\nTo join the meeting\, please use this link: https://us06web.zoom.us/j/87193110431?pwd=VWlzcGd2aTVJaytNYWR1QmlmOUFPZz09
URL:https://westpiedmontpdc.org/event/ceds-public-input-strategy-committee-meeting%ef%bf%bc/
CATEGORIES:CEDS
END:VEVENT
BEGIN:VEVENT
DTSTART;TZID=UTC:20220224T190000
DTEND;TZID=UTC:20220224T190000
DTSTAMP:20260424T155358
CREATED:20220111T153736Z
LAST-MODIFIED:20220111T154044Z
UID:11763-1645729200-1645729200@westpiedmontpdc.org
SUMMARY:WPPDC Board Meeting
DESCRIPTION:The WPPDC Board of Commissioners will meet at 7:00pm on February 24\, 2022. The meeting will be held at the Commission Office\, 1100 Madison St\, Martinsville\, VA 24112 and via Zoom.
URL:https://westpiedmontpdc.org/event/wppdc-board-meeting-5/
LOCATION:WPPDC Office\, 1100 Madison St\, Martinsville\, 24112\, United States
CATEGORIES:Board
END:VEVENT
BEGIN:VEVENT
DTSTART;TZID=UTC:20220221T080000
DTEND;TZID=UTC:20220221T170000
DTSTAMP:20260424T155358
CREATED:20220213T184634Z
LAST-MODIFIED:20220217T141120Z
UID:11864-1645430400-1645462800@westpiedmontpdc.org
SUMMARY:WPPDC Office Closed￼
DESCRIPTION:The WPPDC office will be on February 21\, 2022 in observation of President’s Day.
URL:https://westpiedmontpdc.org/event/wppdc-office-closed%ef%bf%bc/
CATEGORIES:Holiday
END:VEVENT
BEGIN:VEVENT
DTSTART;TZID=UTC:20220120T150000
DTEND;TZID=UTC:20220120T170000
DTSTAMP:20260424T155358
CREATED:20220111T155225Z
LAST-MODIFIED:20220111T155255Z
UID:11773-1642690800-1642698000@westpiedmontpdc.org
SUMMARY:CEDS Strategy Committee Meeting
DESCRIPTION:The CEDS Strategy Committee will meet with WPPDC Staff and Thomas P. Miller & Associates to discuss the CEDS 5-Year Update.  \n\n\n\nClick here to access the meeting.
URL:https://westpiedmontpdc.org/event/ceds-strategy-committee-meeting-2/
CATEGORIES:CEDS
END:VEVENT
BEGIN:VEVENT
DTSTART;TZID=UTC:20220117T080000
DTEND;TZID=UTC:20220117T170000
DTSTAMP:20260424T155358
CREATED:20220111T155429Z
LAST-MODIFIED:20220217T141130Z
UID:11775-1642406400-1642438800@westpiedmontpdc.org
SUMMARY:WPPDC Office Closed
DESCRIPTION:The WPPDC office will be on January 17\, 2022 in observation of Martin Luther King\, Jr. Day.
URL:https://westpiedmontpdc.org/event/wppdc-office-closed-2/
CATEGORIES:Holiday
END:VEVENT
BEGIN:VEVENT
DTSTART;TZID=UTC:20211223T083000
DTEND;TZID=UTC:20220102T170000
DTSTAMP:20260424T155358
CREATED:20211215T193542Z
LAST-MODIFIED:20220111T153814Z
UID:11744-1640248200-1641142800@westpiedmontpdc.org
SUMMARY:WPPDC Office Closed
DESCRIPTION:The WPPDC office will be closed from December 23\, 2021 to January 2\, 2022. It will reopen at 8:30am on Monday\, January 3\, 2022.
URL:https://westpiedmontpdc.org/event/wppdc-office-closed/
CATEGORIES:Holiday
END:VEVENT
BEGIN:VEVENT
DTSTART;TZID=UTC:20211215T130000
DTEND;TZID=UTC:20211215T140000
DTSTAMP:20260424T155358
CREATED:20211201T185724Z
LAST-MODIFIED:20220111T153822Z
UID:11702-1639573200-1639576800@westpiedmontpdc.org
SUMMARY:Housing Production Program How To Apply
DESCRIPTION:The How To Apply workshop for the WPPDC Housing Production Program will be held virtually on Zoom. \n\n\n\n \n\n\n\nClick here to access the meeting.
URL:https://westpiedmontpdc.org/event/housing-production-program-how-to-apply/
CATEGORIES:Planning
END:VEVENT
BEGIN:VEVENT
DTSTART;TZID=UTC:20211214T140000
DTEND;TZID=UTC:20211214T153000
DTSTAMP:20260424T155358
CREATED:20211201T190220Z
LAST-MODIFIED:20220111T153827Z
UID:11708-1639490400-1639495800@westpiedmontpdc.org
SUMMARY:CEDS Strategy Committee Meeting
DESCRIPTION:The CEDS Strategy Committee will meet with WPPDC Staff and Thomas P. Miller & Associates to discuss the CEDS 5-Year Update.  \n\n\n\n \n\n\n\nClick here to access the meeting.
URL:https://westpiedmontpdc.org/event/ceds-strategy-committee-meeting/
CATEGORIES:CEDS
END:VEVENT
BEGIN:VEVENT
DTSTART;TZID=UTC:20211209T190000
DTEND;TZID=UTC:20211209T200000
DTSTAMP:20260424T155358
CREATED:20211029T124425Z
LAST-MODIFIED:20220111T153833Z
UID:11617-1639076400-1639080000@westpiedmontpdc.org
SUMMARY:WPPDC Board Meeting - Cancelled
DESCRIPTION:The WPPDC Board of Commissioners will meet at 7:00pm on October 28\, 2021. The meeting will be held at the Commission Office\, 1100 Madison St\, Martinsville\, VA 24112 and via Zoom.
URL:https://westpiedmontpdc.org/event/wppdc-board-meeting-4/
CATEGORIES:Board
END:VEVENT
BEGIN:VEVENT
DTSTART;TZID=UTC:20211118T110000
DTEND;TZID=UTC:20211118T120000
DTSTAMP:20260424T155358
CREATED:20211020T121149Z
LAST-MODIFIED:20220111T153839Z
UID:11602-1637233200-1637236800@westpiedmontpdc.org
SUMMARY:WPPDC T-TAC Meeting
DESCRIPTION:The WPPDC T-TAC Committee will meet at 11:00am on November 18\, 2021. The meeting will be held via Zoom – https://us06web.zoom.us/j/87173294468?pwd=U1FOSzQvaVkwa1ZtY0g3eThMN2Rxdz09
URL:https://westpiedmontpdc.org/event/wppdc-t-tac-meeting/
CATEGORIES:TTAC
END:VEVENT
BEGIN:VEVENT
DTSTART;TZID=UTC:20211028T190000
DTEND;TZID=UTC:20211028T200000
DTSTAMP:20260424T155358
CREATED:20210627T125446Z
LAST-MODIFIED:20211020T120311Z
UID:11288-1635447600-1635451200@westpiedmontpdc.org
SUMMARY:WPPDC Board Meeting
DESCRIPTION:The WPPDC Board of Commissioners will meet at 7:00pm on October 28\, 2021. The meeting will be held at the Commission Office\, 1100 Madison St\, Martinsville\, VA 24112 and via Zoom – https://us06web.zoom.us/j/83023005547?pwd=L3VvS01NVWhkbkF0bmlWME8xZGdFdz09
URL:https://westpiedmontpdc.org/event/wppdc-board-meeting-3/
LOCATION:WPPDC Office\, 1100 Madison St\, Martinsville\, 24112\, United States
CATEGORIES:Board
END:VEVENT
BEGIN:VEVENT
DTSTART;TZID=UTC:20210826T190000
DTEND;TZID=UTC:20210826T200000
DTSTAMP:20260424T155358
CREATED:20210627T125328Z
LAST-MODIFIED:20210722T115802Z
UID:11284-1630004400-1630008000@westpiedmontpdc.org
SUMMARY:WPPDC Board Meeting
DESCRIPTION:
URL:https://westpiedmontpdc.org/event/wppdc-board-meeting-2/
LOCATION:WPPDC Office\, 1100 Madison St\, Martinsville\, 24112\, United States
CATEGORIES:Board
END:VEVENT
BEGIN:VEVENT
DTSTART;TZID=UTC:20210805T180000
DTEND;TZID=UTC:20210805T190000
DTSTAMP:20260424T155358
CREATED:20210722T121003Z
LAST-MODIFIED:20210722T121020Z
UID:11424-1628186400-1628190000@westpiedmontpdc.org
SUMMARY:WPPDC Hazard Mitigation Public Input Meeting
DESCRIPTION:The West Piedmont Multi-Jurisdictional Hazard Mitigation Plan is undergoing a 2021 update. A public meeting will be held on Thursday\, August 5\, 2021 from 6:00 – 7:00 p.m. via a virtual Microsoft Teams meeting (https://bit.ly/2UD4XoJ). A brief overview of the planning process will be given\, along with a walkthrough of the updated plan. There will be time allotted for the public to ask questions and provide feedback. The draft plan will be posted on the Planning District Commission’s Hazard Mitigation Planning webpage at https://westpiedmontpdc.org/hazard-mitigation-planning/ prior to the meeting. Contact the West Piedmont Planning District Commission at (276) 638-3987 or by email at plan@wppdc.org with any questions or if you require reasonable accommodations.
URL:https://westpiedmontpdc.org/event/wppdc-hazard-mitigation-public-input-meeting/
CATEGORIES:Planning
END:VEVENT
BEGIN:VEVENT
DTSTART;TZID=UTC:20210805T100000
DTEND;TZID=UTC:20210805T120000
DTSTAMP:20260424T155358
CREATED:20210722T120104Z
LAST-MODIFIED:20210722T120127Z
UID:11422-1628157600-1628164800@westpiedmontpdc.org
SUMMARY:WPPDC Hazard Mitigation MAC Meeting
DESCRIPTION:________________________________________________________________________________ \n\n\n\nMicrosoft Teams meeting \n\n\n\nJoin on your computer or mobile app \n\n\n\nClick here to join the meeting \n\n\n\nOr call in (audio only) \n\n\n\n+1 571-360-4685\,\,966152715#   United States\, Arlington  \n\n\n\nPhone Conference ID: 966 152 715#  \n\n\n\nFind a local number | Reset PIN \n\n\n\nLearn More | Meeting options \n\n\n\n________________________________________________________________________________
URL:https://westpiedmontpdc.org/event/wppdc-hazard-mitigation-mac-meeting/
CATEGORIES:Planning
END:VEVENT
BEGIN:VEVENT
DTSTART;TZID=UTC:20210804T183000
DTEND;TZID=UTC:20210804T193000
DTSTAMP:20260424T155358
CREATED:20210722T121325Z
LAST-MODIFIED:20210722T121343Z
UID:11426-1628101800-1628105400@westpiedmontpdc.org
SUMMARY:Danville MPO Board Meeting
DESCRIPTION:
URL:https://westpiedmontpdc.org/event/danville-mpo-board-meeting/
LOCATION:Danville Regional Airport\, 424 Airport Dr\, Danville\, 24540\, United States
CATEGORIES:Danville MPO
END:VEVENT
BEGIN:VEVENT
DTSTART;TZID=UTC:20210527T193000
DTEND;TZID=UTC:20210527T200000
DTSTAMP:20260424T155358
CREATED:20210426T141214Z
LAST-MODIFIED:20210722T115810Z
UID:10529-1622143800-1622145600@westpiedmontpdc.org
SUMMARY:WPPDC Board Meeting
DESCRIPTION:The WPPDC Board of Commissioners will meet at 7:00pm on May 27\, 2021. The meeting will be held at the Commission Office\, 1100 Madison St\, Martinsville\, VA 24112 and via Zoom.
URL:https://westpiedmontpdc.org/event/wppdc-board-meeting/
LOCATION:Commission Office\, 1100 Madison St\, Martinsville\, 24112\, United States
CATEGORIES:Board
END:VEVENT
END:VCALENDAR