BEGIN:VCALENDAR
VERSION:2.0
PRODID:-//West Piedmont Planning District Commission - ECPv6.15.17.1//NONSGML v1.0//EN
CALSCALE:GREGORIAN
METHOD:PUBLISH
X-WR-CALNAME:West Piedmont Planning District Commission
X-ORIGINAL-URL:https://westpiedmontpdc.org
X-WR-CALDESC:Events for West Piedmont Planning District Commission
REFRESH-INTERVAL;VALUE=DURATION:PT1H
X-Robots-Tag:noindex
X-PUBLISHED-TTL:PT1H
BEGIN:VTIMEZONE
TZID:UTC
BEGIN:STANDARD
TZOFFSETFROM:+0000
TZOFFSETTO:+0000
TZNAME:UTC
DTSTART:20210101T000000
END:STANDARD
END:VTIMEZONE
BEGIN:VEVENT
DTSTART;VALUE=DATE:20241014
DTEND;VALUE=DATE:20241015
DTSTAMP:20260424T000859
CREATED:20241009T195339Z
LAST-MODIFIED:20241009T195339Z
UID:12791-1728864000-1728950399@westpiedmontpdc.org
SUMMARY:WPPDC Closed for Columbus Day
DESCRIPTION:
URL:https://westpiedmontpdc.org/event/wppdc-closed-for-columbus-day/
END:VEVENT
BEGIN:VEVENT
DTSTART;TZID=UTC:20240927T130000
DTEND;TZID=UTC:20240927T140000
DTSTAMP:20260424T000859
CREATED:20240924T194620Z
LAST-MODIFIED:20240924T194620Z
UID:12766-1727442000-1727445600@westpiedmontpdc.org
SUMMARY:PRO Grant Public Meeting
DESCRIPTION:You are cordially invited to attend a public meeting held by the West Piedmont Planning District Commission (WPPDC) on Friday\, September 27th to discuss the Pathways to Removing Obstacles to Housing (PRO) grant. The grant is worth $100 million and empowers communities that are actively taking steps to remove barriers to affordable housing and seeking to increase housing production and lower housing costs over the long term. There will be two meetings: \nFriday\, September 27th\n1 p.m. – 2 p.m.\nWest Piedmont Planning District Commission\n1100 Madison Street\nMartinsville\, VA 24112 \nFriday\, September 27th\n3 p.m. – 4 p.m.\nThe Franklin Center\n50 Claiborne Avenue\nRocky Mount\, VA 24151 \nThe meeting will provide an overview of the grant and how it can benefit our communities of Chatham\, Bassett\, Sandy Level\, Union Hall\, Patrick Springs and Penhook. The WPPDC will be applying $7 million of PRO Housing funds. \nThe goal of WPPDC using PRO Housing funds is the creation of new housing in PRO Housing Priority Areas for minority LMI residents\, provide homebuyer education or other educational programs for LMI residents and\, mortgage buy-downs to allow homes to be deemed affordable to LMI residents. \nWe look forward to seeing you there and discussing how we can work together to improve our community.
URL:https://westpiedmontpdc.org/event/pro-grant-public-meeting/
LOCATION:WPPDC Office\, 1100 Madison St\, Martinsville\, 24112\, United States
END:VEVENT
BEGIN:VEVENT
DTSTART;TZID=UTC:20240822T183000
DTEND;TZID=UTC:20240822T200000
DTSTAMP:20260424T000859
CREATED:20240815T163400Z
LAST-MODIFIED:20240815T163400Z
UID:12755-1724351400-1724356800@westpiedmontpdc.org
SUMMARY:Executive Committee and Board Meeting
DESCRIPTION:
URL:https://westpiedmontpdc.org/event/executive-committee-and-board-meeting/
LOCATION:Commission Office\, 1100 Madison St\, Martinsville\, 24112\, United States
END:VEVENT
BEGIN:VEVENT
DTSTART;TZID=UTC:20240814T080000
DTEND;TZID=UTC:20240814T170000
DTSTAMP:20260424T000859
CREATED:20240822T183047Z
LAST-MODIFIED:20240815T135515Z
UID:12745-1723622400-1723654800@westpiedmontpdc.org
SUMMARY:WPPDC Executive Committee and Board Meeting
DESCRIPTION:
URL:https://westpiedmontpdc.org/event/wppdc-executive-committee-and-board-meeting/
END:VEVENT
BEGIN:VEVENT
DTSTART;TZID=UTC:20240614T080000
DTEND;TZID=UTC:20240614T170000
DTSTAMP:20260424T000859
CREATED:20240711T152155Z
LAST-MODIFIED:20240614T152517Z
UID:12726-1718352000-1718384400@westpiedmontpdc.org
SUMMARY:Next MPO Meeting
DESCRIPTION:Next MPO Meeting\nJuly 11\, 2024 | Danville MPO \nThe next Danville MPO Board meeting is scheduled for Thursday\, July 11th at 5:30pm at the Danville Regional Airport.  For more information\, please contact the Danville MPO staff.
URL:https://westpiedmontpdc.org/event/next-mpo-meeting/
END:VEVENT
BEGIN:VEVENT
DTSTART;TZID=UTC:20240523T190000
DTEND;TZID=UTC:20240523T200000
DTSTAMP:20260424T000859
CREATED:20230530T190054Z
LAST-MODIFIED:20230530T190115Z
UID:12414-1716490800-1716494400@westpiedmontpdc.org
SUMMARY:WPPDC Board Meeting
DESCRIPTION:The WPPDC Board of Commissioners will meet at 7:00pm on May 23\, 2024. The meeting will be held at the Commission Office\, 1100 Madison St\, Martinsville\, VA 24112.
URL:https://westpiedmontpdc.org/event/wppdc-board-meeting-17/
LOCATION:WPPDC Office\, 1100 Madison St\, Martinsville\, 24112\, United States
CATEGORIES:Board
END:VEVENT
BEGIN:VEVENT
DTSTART;TZID=UTC:20240328T190000
DTEND;TZID=UTC:20240328T200000
DTSTAMP:20260424T000859
CREATED:20230530T185935Z
LAST-MODIFIED:20230530T190111Z
UID:12412-1711652400-1711656000@westpiedmontpdc.org
SUMMARY:WPPDC Board Meeting
DESCRIPTION:The WPPDC Board of Commissioners will meet at 7:00pm on March 28\, 2024. The meeting will be held at the Commission Office\, 1100 Madison St\, Martinsville\, VA 24112.
URL:https://westpiedmontpdc.org/event/wppdc-board-meeting-16/
LOCATION:WPPDC Office\, 1100 Madison St\, Martinsville\, 24112\, United States
CATEGORIES:Board
END:VEVENT
BEGIN:VEVENT
DTSTART;TZID=UTC:20240222T190000
DTEND;TZID=UTC:20240222T200000
DTSTAMP:20260424T000859
CREATED:20230530T185752Z
LAST-MODIFIED:20230530T190105Z
UID:12410-1708628400-1708632000@westpiedmontpdc.org
SUMMARY:WPPDC Board Meeting
DESCRIPTION:The WPPDC Board of Commissioners will meet at 7:00pm on February 22\, 2024. The meeting will be held at the Commission Office\, 1100 Madison St\, Martinsville\, VA 24112.
URL:https://westpiedmontpdc.org/event/wppdc-board-meeting-15/
LOCATION:WPPDC Office\, 1100 Madison St\, Martinsville\, 24112\, United States
CATEGORIES:Board
END:VEVENT
BEGIN:VEVENT
DTSTART;TZID=UTC:20231222T120000
DTEND;TZID=UTC:20240101T170000
DTSTAMP:20260424T000859
CREATED:20221215T141556Z
LAST-MODIFIED:20221215T141631Z
UID:12235-1703246400-1704128400@westpiedmontpdc.org
SUMMARY:WPPDC Office Closed
DESCRIPTION:The WPPDC office will be closed in observance of Christmas and New Year’s Day.
URL:https://westpiedmontpdc.org/event/wppdc-office-closed-22/
CATEGORIES:Holiday
END:VEVENT
BEGIN:VEVENT
DTSTART;TZID=UTC:20231122T120000
DTEND;TZID=UTC:20231124T170000
DTSTAMP:20260424T000859
CREATED:20221215T141428Z
LAST-MODIFIED:20221215T141627Z
UID:12233-1700654400-1700845200@westpiedmontpdc.org
SUMMARY:WPPDC Office Closed
DESCRIPTION:The WPPDC office will be closed in observance of Thanksgiving.
URL:https://westpiedmontpdc.org/event/wppdc-office-closed-21/
CATEGORIES:Holiday
END:VEVENT
BEGIN:VEVENT
DTSTART;TZID=UTC:20231110T080000
DTEND;TZID=UTC:20231110T170000
DTSTAMP:20260424T000859
CREATED:20221215T141315Z
LAST-MODIFIED:20221215T141623Z
UID:12231-1699603200-1699635600@westpiedmontpdc.org
SUMMARY:WPPDC Office Closed
DESCRIPTION:The WPPDC office will be closed in observance of Veterans Day.
URL:https://westpiedmontpdc.org/event/wppdc-office-closed-20/
CATEGORIES:Holiday
END:VEVENT
BEGIN:VEVENT
DTSTART;TZID=UTC:20231107T080000
DTEND;TZID=UTC:20231107T170000
DTSTAMP:20260424T000859
CREATED:20221215T141235Z
LAST-MODIFIED:20221215T141618Z
UID:12229-1699344000-1699376400@westpiedmontpdc.org
SUMMARY:WPPDC Office Closed
DESCRIPTION:The WPPDC office will be closed in observance of Election Day.
URL:https://westpiedmontpdc.org/event/wppdc-office-closed-19/
CATEGORIES:Holiday
END:VEVENT
BEGIN:VEVENT
DTSTART;TZID=UTC:20231026T190000
DTEND;TZID=UTC:20231026T200000
DTSTAMP:20260424T000859
CREATED:20230530T185527Z
LAST-MODIFIED:20230530T185543Z
UID:12408-1698346800-1698350400@westpiedmontpdc.org
SUMMARY:WPPDC Board Meeting
DESCRIPTION:The WPPDC Board of Commissioners will meet at 7:00pm on October 26\, 2023. The meeting will be held at the Commission Office\, 1100 Madison St\, Martinsville\, VA 24112.
URL:https://westpiedmontpdc.org/event/wppdc-board-meeting-14/
LOCATION:WPPDC Office\, 1100 Madison St\, Martinsville\, 24112\, United States
CATEGORIES:Board
END:VEVENT
BEGIN:VEVENT
DTSTART;TZID=UTC:20231009T080000
DTEND;TZID=UTC:20231009T170000
DTSTAMP:20260424T000859
CREATED:20221215T141147Z
LAST-MODIFIED:20221215T141614Z
UID:12227-1696838400-1696870800@westpiedmontpdc.org
SUMMARY:WPPDC Office Closed
DESCRIPTION:The WPPDC office will be closed in observance of Columbus Day & Yorktown Victory Day.
URL:https://westpiedmontpdc.org/event/wppdc-office-closed-18/
CATEGORIES:Holiday
END:VEVENT
BEGIN:VEVENT
DTSTART;TZID=UTC:20230904T080000
DTEND;TZID=UTC:20230904T170000
DTSTAMP:20260424T000859
CREATED:20221215T141051Z
LAST-MODIFIED:20221215T141609Z
UID:12225-1693814400-1693846800@westpiedmontpdc.org
SUMMARY:WPPDC Office Closed
DESCRIPTION:The WPPDC office will be closed in observance of Labor Day.
URL:https://westpiedmontpdc.org/event/wppdc-office-closed-17/
CATEGORIES:Holiday
END:VEVENT
BEGIN:VEVENT
DTSTART;TZID=UTC:20230824T190000
DTEND;TZID=UTC:20230824T200000
DTSTAMP:20260424T000859
CREATED:20230530T185152Z
LAST-MODIFIED:20230530T185355Z
UID:12405-1692903600-1692907200@westpiedmontpdc.org
SUMMARY:WPPDC Board Meeting
DESCRIPTION:The WPPDC Board of Commissioners will meet at 7:00pm on August 24\, 2023. The meeting will be held at the Commission Office\, 1100 Madison St\, Martinsville\, VA 24112.
URL:https://westpiedmontpdc.org/event/wppdc-board-meeting-13/
LOCATION:WPPDC Office\, 1100 Madison St\, Martinsville\, 24112\, United States
CATEGORIES:Board
END:VEVENT
BEGIN:VEVENT
DTSTART;TZID=UTC:20230704T080000
DTEND;TZID=UTC:20230704T170000
DTSTAMP:20260424T000859
CREATED:20221215T140652Z
LAST-MODIFIED:20221215T141605Z
UID:12223-1688457600-1688490000@westpiedmontpdc.org
SUMMARY:WPPDC Office Closed
DESCRIPTION:The WPPDC office will be closed in observance of Independence Day.
URL:https://westpiedmontpdc.org/event/wppdc-office-closed-16/
CATEGORIES:Holiday
END:VEVENT
BEGIN:VEVENT
DTSTART;TZID=UTC:20230619T080000
DTEND;TZID=UTC:20230619T170000
DTSTAMP:20260424T000859
CREATED:20221215T140456Z
LAST-MODIFIED:20221215T140504Z
UID:12221-1687161600-1687194000@westpiedmontpdc.org
SUMMARY:WPPDC Office Closed
DESCRIPTION:The WPPDC office will be closed in observance of Juneteenth.
URL:https://westpiedmontpdc.org/event/wppdc-office-closed-15/
CATEGORIES:Holiday
END:VEVENT
BEGIN:VEVENT
DTSTART;TZID=UTC:20230529T080000
DTEND;TZID=UTC:20230529T170000
DTSTAMP:20260424T000859
CREATED:20221215T140401Z
LAST-MODIFIED:20221215T140419Z
UID:12219-1685347200-1685379600@westpiedmontpdc.org
SUMMARY:WPPDC Office Closed
DESCRIPTION:The WPPDC office will be closed in observance of Memorial Day.
URL:https://westpiedmontpdc.org/event/wppdc-office-closed-14/
CATEGORIES:Holiday
END:VEVENT
BEGIN:VEVENT
DTSTART;TZID=UTC:20230525T190000
DTEND;TZID=UTC:20230525T200000
DTSTAMP:20260424T000859
CREATED:20221215T142450Z
LAST-MODIFIED:20221215T142504Z
UID:12245-1685041200-1685044800@westpiedmontpdc.org
SUMMARY:WPPDC Board Meeting
DESCRIPTION:The WPPDC Board of Commissioners will meet at 7:00pm on May 25\, 2023. The meeting will be held at the Commission Office\, 1100 Madison St\, Martinsville\, VA 24112.
URL:https://westpiedmontpdc.org/event/wppdc-board-meeting-12/
LOCATION:WPPDC Office\, 1100 Madison St\, Martinsville\, 24112\, United States
CATEGORIES:Board
END:VEVENT
BEGIN:VEVENT
DTSTART;TZID=UTC:20230427T180000
DTEND;TZID=UTC:20230427T190000
DTSTAMP:20260424T000859
CREATED:20221215T142358Z
LAST-MODIFIED:20221215T142508Z
UID:12243-1682618400-1682622000@westpiedmontpdc.org
SUMMARY:WPPDC Executive Committee Meeting
DESCRIPTION:The WPPDC Executive Committee will meet at 6:00pm on April 27\, 2023. The meeting will be held at the Commission Office\, 1100 Madison St\, Martinsville\, VA 24112.
URL:https://westpiedmontpdc.org/event/wppdc-executive-committee-meeting-2/
LOCATION:WPPDC Office\, 1100 Madison St\, Martinsville\, 24112\, United States
CATEGORIES:Board
END:VEVENT
BEGIN:VEVENT
DTSTART;TZID=UTC:20230323T190000
DTEND;TZID=UTC:20230323T200000
DTSTAMP:20260424T000859
CREATED:20221215T142238Z
LAST-MODIFIED:20221215T142513Z
UID:12241-1679598000-1679601600@westpiedmontpdc.org
SUMMARY:WPPDC Board Meeting
DESCRIPTION:The WPPDC Board of Commissioners will meet at 7:00pm on March 23\, 2023. The meeting will be held at the Commission Office\, 1100 Madison St\, Martinsville\, VA 24112.
URL:https://westpiedmontpdc.org/event/wppdc-board-meeting-11/
LOCATION:WPPDC Office\, 1100 Madison St\, Martinsville\, 24112\, United States
CATEGORIES:Board
END:VEVENT
BEGIN:VEVENT
DTSTART;TZID=UTC:20230223T190000
DTEND;TZID=UTC:20230223T200000
DTSTAMP:20260424T000859
CREATED:20221215T142108Z
LAST-MODIFIED:20221215T142517Z
UID:12237-1677178800-1677182400@westpiedmontpdc.org
SUMMARY:WPPDC Board Meeting
DESCRIPTION:The WPPDC Board of Commissioners will meet at 7:00pm on February 23\, 2023. The meeting will be held at the Commission Office\, 1100 Madison St\, Martinsville\, VA 24112.
URL:https://westpiedmontpdc.org/event/wppdc-board-meeting-10/
LOCATION:WPPDC Office\, 1100 Madison St\, Martinsville\, 24112\, United States
CATEGORIES:Board
END:VEVENT
BEGIN:VEVENT
DTSTART;TZID=UTC:20230220T080000
DTEND;TZID=UTC:20230220T170000
DTSTAMP:20260424T000859
CREATED:20221215T140049Z
LAST-MODIFIED:20221215T140100Z
UID:12217-1676880000-1676912400@westpiedmontpdc.org
SUMMARY:WPPDC Office Closed
DESCRIPTION:The WPPDC office will be closed in observance of George Washington Day.
URL:https://westpiedmontpdc.org/event/wppdc-office-closed-13/
CATEGORIES:Holiday
END:VEVENT
BEGIN:VEVENT
DTSTART;TZID=UTC:20230116T080000
DTEND;TZID=UTC:20230116T170000
DTSTAMP:20260424T000859
CREATED:20221215T135953Z
LAST-MODIFIED:20221215T140105Z
UID:12215-1673856000-1673888400@westpiedmontpdc.org
SUMMARY:WPPDC Office Closed
DESCRIPTION:The WPPDC office will be closed in observance of Martin Luther King\, Jr. Day.
URL:https://westpiedmontpdc.org/event/wppdc-office-closed-12/
CATEGORIES:Holiday
END:VEVENT
BEGIN:VEVENT
DTSTART;TZID=UTC:20221223T080000
DTEND;TZID=UTC:20230102T170000
DTSTAMP:20260424T000859
CREATED:20220603T161323Z
LAST-MODIFIED:20220603T161431Z
UID:12026-1671782400-1672678800@westpiedmontpdc.org
SUMMARY:WPPDC Office Closed
DESCRIPTION:The WPPDC office will be closed in observation of the Christmas and New Year holidays.
URL:https://westpiedmontpdc.org/event/wppdc-office-closed-11/
CATEGORIES:Holiday
END:VEVENT
BEGIN:VEVENT
DTSTART;TZID=UTC:20221123T083000
DTEND;TZID=UTC:20221125T170000
DTSTAMP:20260424T000859
CREATED:20220603T161212Z
LAST-MODIFIED:20221118T125701Z
UID:12024-1669192200-1669395600@westpiedmontpdc.org
SUMMARY:WPPDC Office Closed
DESCRIPTION:The WPPDC office will be closed in observation of Thanksgiving.
URL:https://westpiedmontpdc.org/event/wppdc-office-closed-10/
CATEGORIES:Holiday
END:VEVENT
BEGIN:VEVENT
DTSTART;TZID=UTC:20221111T080000
DTEND;TZID=UTC:20221111T170000
DTSTAMP:20260424T000859
CREATED:20220603T161049Z
LAST-MODIFIED:20220603T161056Z
UID:12022-1668153600-1668186000@westpiedmontpdc.org
SUMMARY:WPPDC Office Closed
DESCRIPTION:The WPPDC office will be closed in observation of Veterans Day.
URL:https://westpiedmontpdc.org/event/wppdc-office-closed-9/
CATEGORIES:Holiday
END:VEVENT
BEGIN:VEVENT
DTSTART;TZID=UTC:20221108T080000
DTEND;TZID=UTC:20221108T170000
DTSTAMP:20260424T000859
CREATED:20220603T160133Z
LAST-MODIFIED:20220603T160146Z
UID:12016-1667894400-1667926800@westpiedmontpdc.org
SUMMARY:WPPDC Office Closed
DESCRIPTION:The WPPDC office will be closed in observation of Election Day.
URL:https://westpiedmontpdc.org/event/wppdc-office-closed-8/
CATEGORIES:Holiday
END:VEVENT
BEGIN:VEVENT
DTSTART;TZID=UTC:20221027T190000
DTEND;TZID=UTC:20221027T200000
DTSTAMP:20260424T000859
CREATED:20220603T155349Z
LAST-MODIFIED:20220603T155357Z
UID:12010-1666897200-1666900800@westpiedmontpdc.org
SUMMARY:WPPDC Board Meeting
DESCRIPTION:The WPPDC Board of Commissioners will meet at 7:00pm on October 27\, 2022. The meeting will be held at the Commission Office\, 1100 Madison St\, Martinsville\, VA 24112 and via Zoom.
URL:https://westpiedmontpdc.org/event/wppdc-board-meeting-9/
LOCATION:WPPDC Office\, 1100 Madison St\, Martinsville\, 24112\, United States
CATEGORIES:Board
END:VEVENT
END:VCALENDAR