BEGIN:VCALENDAR
VERSION:2.0
PRODID:-//West Piedmont Planning District Commission - ECPv6.15.17.1//NONSGML v1.0//EN
CALSCALE:GREGORIAN
METHOD:PUBLISH
X-ORIGINAL-URL:https://westpiedmontpdc.org
X-WR-CALDESC:Events for West Piedmont Planning District Commission
REFRESH-INTERVAL;VALUE=DURATION:PT1H
X-Robots-Tag:noindex
X-PUBLISHED-TTL:PT1H
BEGIN:VTIMEZONE
TZID:UTC
BEGIN:STANDARD
TZOFFSETFROM:+0000
TZOFFSETTO:+0000
TZNAME:UTC
DTSTART:20230101T000000
END:STANDARD
END:VTIMEZONE
BEGIN:VEVENT
DTSTART;VALUE=DATE:20241127
DTEND;VALUE=DATE:20241130
DTSTAMP:20260425T144842
CREATED:20240926T154016Z
LAST-MODIFIED:20241119T174820Z
UID:12781-1732665600-1732924799@westpiedmontpdc.org
SUMMARY:WPPDC Office Closed for Thanksgiving Holiday
DESCRIPTION:
URL:https://westpiedmontpdc.org/event/wppdc-office-closed-for-thanksgiving-holiday/
END:VEVENT
BEGIN:VEVENT
DTSTART;TZID=UTC:20241205T190000
DTEND;TZID=UTC:20241205T203000
DTSTAMP:20260425T144842
CREATED:20240926T153244Z
LAST-MODIFIED:20240926T153244Z
UID:12771-1733425200-1733430600@westpiedmontpdc.org
SUMMARY:WPPDC Board Meeting
DESCRIPTION:
URL:https://westpiedmontpdc.org/event/wppdc-board-meeting-19/
END:VEVENT
BEGIN:VEVENT
DTSTART;TZID=UTC:20241224T080000
DTEND;TZID=UTC:20241231T170000
DTSTAMP:20260425T144842
CREATED:20240926T154124Z
LAST-MODIFIED:20240926T154124Z
UID:12783-1735027200-1735664400@westpiedmontpdc.org
SUMMARY:WPPDC Office Closed for Christmas Holiday
DESCRIPTION:
URL:https://westpiedmontpdc.org/event/wppdc-office-closed-for-christmas-holiday/
END:VEVENT
BEGIN:VEVENT
DTSTART;TZID=UTC:20250227T190000
DTEND;TZID=UTC:20250227T203000
DTSTAMP:20260425T144842
CREATED:20240926T153346Z
LAST-MODIFIED:20240926T153346Z
UID:12773-1740682800-1740688200@westpiedmontpdc.org
SUMMARY:WPPDC Board Meeting
DESCRIPTION:
URL:https://westpiedmontpdc.org/event/wppdc-board-meeting-20/
LOCATION:WPPDC Office\, 1100 Madison St\, Martinsville\, 24112\, United States
END:VEVENT
BEGIN:VEVENT
DTSTART;TZID=UTC:20250327T190000
DTEND;TZID=UTC:20250327T203000
DTSTAMP:20260425T144842
CREATED:20240926T153459Z
LAST-MODIFIED:20240926T153459Z
UID:12775-1743102000-1743107400@westpiedmontpdc.org
SUMMARY:WPPDC Board Meeting
DESCRIPTION:
URL:https://westpiedmontpdc.org/event/wppdc-board-meeting-21/
LOCATION:WPPDC Office\, 1100 Madison St\, Martinsville\, 24112\, United States
END:VEVENT
BEGIN:VEVENT
DTSTART;TZID=UTC:20250424T180000
DTEND;TZID=UTC:20250424T193000
DTSTAMP:20260425T144842
CREATED:20240926T153602Z
LAST-MODIFIED:20240926T153602Z
UID:12777-1745517600-1745523000@westpiedmontpdc.org
SUMMARY:WPPDC Executive Committee Meeting
DESCRIPTION:
URL:https://westpiedmontpdc.org/event/wppdc-executive-committee-meeting-3/
LOCATION:WPPDC Office\, 1100 Madison St\, Martinsville\, 24112\, United States
END:VEVENT
BEGIN:VEVENT
DTSTART;TZID=UTC:20250522T190000
DTEND;TZID=UTC:20250522T203000
DTSTAMP:20260425T144842
CREATED:20240926T153813Z
LAST-MODIFIED:20240926T153813Z
UID:12779-1747940400-1747945800@westpiedmontpdc.org
SUMMARY:WPPDC Board Meeting
DESCRIPTION:
URL:https://westpiedmontpdc.org/event/wppdc-board-meeting-22/
LOCATION:WPPDC Office\, 1100 Madison St\, Martinsville\, 24112\, United States
END:VEVENT
BEGIN:VEVENT
DTSTART;TZID=UTC:20250828T190000
DTEND;TZID=UTC:20250828T203000
DTSTAMP:20260425T144842
CREATED:20250827T180604Z
LAST-MODIFIED:20250827T180604Z
UID:13012-1756407600-1756413000@westpiedmontpdc.org
SUMMARY:WPPDC Board Meeting
DESCRIPTION:WPPDC Office 1100 Madison St\, Martinsville\, VA
URL:https://westpiedmontpdc.org/event/wppdc-board-meeting-23/
LOCATION:WPPDC Office\, 1100 Madison St\, Martinsville\, 24112\, United States
END:VEVENT
BEGIN:VEVENT
DTSTART;TZID=UTC:20251023T190000
DTEND;TZID=UTC:20251023T203000
DTSTAMP:20260425T144842
CREATED:20250827T180734Z
LAST-MODIFIED:20250827T180734Z
UID:13014-1761246000-1761251400@westpiedmontpdc.org
SUMMARY:WPPDC Board Meeting
DESCRIPTION:WPPDC Office 1100 Madison St\, Martinsville\, VA
URL:https://westpiedmontpdc.org/event/wppdc-board-meeting-24/
END:VEVENT
BEGIN:VEVENT
DTSTART;TZID=UTC:20251204T190000
DTEND;TZID=UTC:20251204T203000
DTSTAMP:20260425T144842
CREATED:20250827T180826Z
LAST-MODIFIED:20250827T180826Z
UID:13016-1764874800-1764880200@westpiedmontpdc.org
SUMMARY:WPPDC Board Meeting
DESCRIPTION:WPPDC Office 1100 Madison St\, Martinsville\, VA
URL:https://westpiedmontpdc.org/event/wppdc-board-meeting-25/
END:VEVENT
BEGIN:VEVENT
DTSTART;TZID=UTC:20260226T190000
DTEND;TZID=UTC:20260226T203000
DTSTAMP:20260425T144842
CREATED:20250827T180912Z
LAST-MODIFIED:20250827T180912Z
UID:13018-1772132400-1772137800@westpiedmontpdc.org
SUMMARY:WPPDC Board Meeting
DESCRIPTION:WPPDC Office 1100 Madison St\, Martinsville\, VA
URL:https://westpiedmontpdc.org/event/wppdc-board-meeting-26/
END:VEVENT
BEGIN:VEVENT
DTSTART;TZID=UTC:20260326T190000
DTEND;TZID=UTC:20260326T203000
DTSTAMP:20260425T144842
CREATED:20250827T180958Z
LAST-MODIFIED:20250827T180958Z
UID:13020-1774551600-1774557000@westpiedmontpdc.org
SUMMARY:WPPDC Board Meeting
DESCRIPTION:WPPDC Office 1100 Madison St\, Martinsville\, VA
URL:https://westpiedmontpdc.org/event/wppdc-board-meeting-27/
END:VEVENT
BEGIN:VEVENT
DTSTART;TZID=UTC:20260423T180000
DTEND;TZID=UTC:20260423T193000
DTSTAMP:20260425T144842
CREATED:20250827T181112Z
LAST-MODIFIED:20250827T181112Z
UID:13022-1776967200-1776972600@westpiedmontpdc.org
SUMMARY:WPPDC Executive Committee Meeting
DESCRIPTION:
URL:https://westpiedmontpdc.org/event/wppdc-executive-committee-meeting-4/
END:VEVENT
BEGIN:VEVENT
DTSTART;TZID=UTC:20260528T190000
DTEND;TZID=UTC:20260528T203000
DTSTAMP:20260425T144842
CREATED:20250827T181244Z
LAST-MODIFIED:20250827T181244Z
UID:13024-1779994800-1780000200@westpiedmontpdc.org
SUMMARY:WPPDC Board Meeting
DESCRIPTION:WPPDC Office 1100 Madison St\, Martinsville\, VA
URL:https://westpiedmontpdc.org/event/wppdc-board-meeting-28/
END:VEVENT
END:VCALENDAR